BEGIN:VCALENDAR
VERSION:2.0
PRODID:-//Metsku - ECPv6.15.20//NONSGML v1.0//EN
CALSCALE:GREGORIAN
METHOD:PUBLISH
X-ORIGINAL-URL:https://metsku.fi
X-WR-CALDESC:Events for Metsku
REFRESH-INTERVAL;VALUE=DURATION:PT1H
X-Robots-Tag:noindex
X-PUBLISHED-TTL:PT1H
BEGIN:VTIMEZONE
TZID:Europe/Moscow
BEGIN:STANDARD
TZOFFSETFROM:+0300
TZOFFSETTO:+0300
TZNAME:MSK
DTSTART:20230101T000000
END:STANDARD
END:VTIMEZONE
BEGIN:VEVENT
DTSTART;TZID=Europe/Moscow:20241117T110000
DTEND;TZID=Europe/Moscow:20241117T140000
DTSTAMP:20260423T115237
CREATED:20241112T131839Z
LAST-MODIFIED:20241112T131839Z
UID:3826-1731841200-1731852000@metsku.fi
SUMMARY:Gudstjänst / Sunday Worship Service
DESCRIPTION:Gudstjänst \nVälkommen med på en avslappnad och skön gudstjänst söndagen 17.11 kl.11:00! Det är Jonathan Westergård som predikar och vi firar Herrens måltid tillsammans. Efter gudstjänsten får vi dela gemenskap i samband med kyrkkaffe. \nOBS! Ingen Himlakul för barnen denna söndag. \nVälkommen! \n_________________ \nSunday Worship Service \nWelcome to a nice and relaxed worship service on Sunday\, November 17th at 11am! Jonathan Westergård will preach and we will celebrate the Lord’s supper. After the service we will have church coffee together. \nNOTE! No Himlakul for the children this Sunday. \nWelcome to join!
URL:https://metsku.fi/event/gudstjanst-sunday-worship-service-17/
CATEGORIES:Gudstjänst
END:VEVENT
END:VCALENDAR